BEGIN:VCALENDAR
VERSION:2.0
PRODID:-//BDEW//bb.bdew.de//
BEGIN:VEVENT
SUMMARY:Treffpunkt Netze 2026
DTSTART;VALUE=DATE-TIME:20260930T093000
DTEND;VALUE=DATE-TIME:20261001T160000
DTSTAMP;VALUE=DATE-TIME:20260424T142031Z
UID:termin-14552@bb.bdew.de
DESCRIPTION:++ Save the date: 30. September - 01. Oktober 2026 ++
LOCATION:Eichenstraße 4\, 12435 Berlin
END:VEVENT
END:VCALENDAR
