BEGIN:VCALENDAR
VERSION:2.0
PRODID:-//BDEW//bb.bdew.de//
BEGIN:VEVENT
SUMMARY:BDEW Kongress 2026
DTSTART;VALUE=DATE-TIME:20260610T093000
DTEND;VALUE=DATE-TIME:20260611T160000
DTSTAMP;VALUE=DATE-TIME:20260424T144208Z
UID:termin-14119@bb.bdew.de
DESCRIPTION:++ save the date: 10./11.06.2026 ++
LOCATION:Luckenwalder Straße 4-6\, 10963 Berlin
END:VEVENT
END:VCALENDAR
